BEGIN:VCALENDAR
VERSION:2.0
PRODID:-//SSAC Hockey - ECPv4.5.7//NONSGML v1.0//EN
CALSCALE:GREGORIAN
METHOD:PUBLISH
X-WR-CALNAME:SSAC Hockey
X-ORIGINAL-URL:https://ssac.hockey
X-WR-CALDESC:Events for SSAC Hockey
BEGIN:VEVENT
DTSTART;TZID=America/Edmonton:20211124T210000
DTEND;TZID=America/Edmonton:20211124T220000
DTSTAMP:20260423T063148
CREATED:20211027T085507Z
LAST-MODIFIED:20211115T024611Z
UID:<span 
                data-original-string="PAjUgKlXQc7qN/iPQUBlhw==052bToCi8L/PC7Sd8VzZI6RD5Ppgk4tMQA8451z77rirCq18iZ5h5gMUwNSoIJ59J88"
                class="apbct-email-encoder"
                title="This contact has been encoded by Anti-Spam by CleanTalk. Click to decode. To finish the decoding make sure that JavaScript is enabled in your browser.">22<span class="apbct-blur">*************************@ss**.hock</span>ey</span>
SUMMARY:U18 AA CB Practice 21:00 SSA
DESCRIPTION:U18 AA Canadian Brewhouse @ South Side \n
URL:https://ssac.hockey/event/u18-aa-cb-practice-2115-kmb-10/
LOCATION:10525 72 Ave. NW\, Edmonton\, AB\, T6E 0Z7\, Canada
CATEGORIES:U18 AA,U18 AA Canadian Brewhouse
END:VEVENT
END:VCALENDAR