BEGIN:VCALENDAR
VERSION:2.0
PRODID:-//SSAC Hockey - ECPv4.5.7//NONSGML v1.0//EN
CALSCALE:GREGORIAN
METHOD:PUBLISH
X-WR-CALNAME:SSAC Hockey
X-ORIGINAL-URL:https://ssac.hockey
X-WR-CALDESC:Events for SSAC Hockey
BEGIN:VEVENT
DTSTART;TZID=America/Edmonton:20220113T203000
DTEND;TZID=America/Edmonton:20220113T220000
DTSTAMP:20260423T164947
CREATED:20220102T004215Z
LAST-MODIFIED:20220102T004215Z
UID:<span 
                data-original-string="1nwQ2Hrppkd+GxCxmrnllQ==052ZMQ0od97kikBp1d8Ti68sjvumYpyLdxvXdEbV+rUkBCp/U7pQa/bHEjvZi0IyfdP"
                class="apbct-email-encoder"
                title="This contact has been encoded by Anti-Spam by CleanTalk. Click to decode. To finish the decoding make sure that JavaScript is enabled in your browser.">25<span class="apbct-blur">*************************@ss**.hock</span>ey</span>
SUMMARY:U18 AA CB Practice 20:30 MWB
DESCRIPTION:U18 AA Canadian Brewhouse @ Mill Woods B \n
URL:https://ssac.hockey/event/u18-aa-cb-practice-2030-mwb-2/
LOCATION:7207 28 Ave NW\, Edmonton\, AB\, T6K 3Z3\, Canada
CATEGORIES:U18 AA,U18 AA Canadian Brewhouse
END:VEVENT
END:VCALENDAR