BEGIN:VCALENDAR
VERSION:2.0
PRODID:-//SSAC Hockey - ECPv4.5.7//NONSGML v1.0//EN
CALSCALE:GREGORIAN
METHOD:PUBLISH
X-WR-CALNAME:SSAC Hockey
X-ORIGINAL-URL:https://ssac.hockey
X-WR-CALDESC:Events for SSAC Hockey
BEGIN:VEVENT
DTSTART;TZID=America/Edmonton:20220126T200000
DTEND;TZID=America/Edmonton:20220126T221500
DTSTAMP:20260426T043119
CREATED:20220102T004245Z
LAST-MODIFIED:20220102T004245Z
UID:<span 
                data-original-string="ogFpQWfSBZo2kXpG7Bkp7w==052ueeK5GumMq5MULs2RNccWWti1IqEbKeQ/4IoxOpbSN810lqI8LP9hR2mGyaHyoNQ"
                class="apbct-email-encoder"
                title="This contact has been encoded by Anti-Spam by CleanTalk. Click to decode. To finish the decoding make sure that JavaScript is enabled in your browser.">25<span class="apbct-blur">*************************@ss**.hock</span>ey</span>
SUMMARY:U18 AA CB Game 20:00 MWA
DESCRIPTION:U18 AA Canadian Brewhouse vs Strathcona ACT Warriors @ Kyle Fundytus Mill Woods A \n
URL:https://ssac.hockey/event/u18-aa-cb-game-2000-mwa-3/
LOCATION:7207 28 Ave NW\, Edmonton\, AB\, T6K 3Z3\, Canada
CATEGORIES:U18 AA,U18 AA Canadian Brewhouse
END:VEVENT
END:VCALENDAR