BEGIN:VCALENDAR
VERSION:2.0
PRODID:-//SSAC Hockey - ECPv4.5.7//NONSGML v1.0//EN
CALSCALE:GREGORIAN
METHOD:PUBLISH
X-WR-CALNAME:SSAC Hockey
X-ORIGINAL-URL:https://ssac.hockey
X-WR-CALDESC:Events for SSAC Hockey
BEGIN:VEVENT
DTSTART;TZID=America/Edmonton:20250315T194500
DTEND;TZID=America/Edmonton:20250315T220000
DTSTAMP:20260422T084211
CREATED:20250311T174345Z
LAST-MODIFIED:20250311T174345Z
UID:<span 
                data-original-string="aQ3yL5YX24qQldjpZz7h6Q==0529+qy7bQWNokT8THLX4GNdAJCz10uL/0eJZG7rk1btOaZUuNrpn+OlPGIzwwmG8PE"
                class="apbct-email-encoder"
                title="This contact has been encoded by Anti-Spam by CleanTalk. Click to decode. To finish the decoding make sure that JavaScript is enabled in your browser.">39<span class="apbct-blur">*************************@ss**.hock</span>ey</span>
SUMMARY:U17 AAA Game 2 North Quarter-Final 19:45 TCA
DESCRIPTION:U17 AAA United Sport Bulldogs vs LJAC Techmation Oil Kings @ Terwillegar A \n
URL:https://ssac.hockey/event/u17-aaa-game-2-north-quarter-final-1945-tca/
LOCATION:2051 Leger Rd NW\, Edmonton\, AB\, T6R 0R8\, Canada
CATEGORIES:U17 AAA
END:VEVENT
END:VCALENDAR