BEGIN:VCALENDAR
VERSION:2.0
PRODID:-//SSAC Hockey - ECPv4.5.7//NONSGML v1.0//EN
CALSCALE:GREGORIAN
METHOD:PUBLISH
X-WR-CALNAME:SSAC Hockey
X-ORIGINAL-URL:https://ssac.hockey
X-WR-CALDESC:Events for SSAC Hockey
BEGIN:VEVENT
DTSTART;TZID=America/Edmonton:20250309T163000
DTEND;TZID=America/Edmonton:20250309T184500
DTSTAMP:20260423T202801
CREATED:20250130T211923Z
LAST-MODIFIED:20250130T211923Z
UID:<span 
                data-original-string="GZM8v/s2RHgOZu5kYZGeVA==052eE3+9viKFygUglg3opRePTG/ugP1Y4erPn0UnxxZVKjWPwCNezKXqjSauApbOVHo"
                class="apbct-email-encoder"
                title="This contact has been encoded by Anti-Spam by CleanTalk. Click to decode. To finish the decoding make sure that JavaScript is enabled in your browser.">39<span class="apbct-blur">*************************@ss**.hock</span>ey</span>
SUMMARY:U17 AAA Game 16:30 BHA
DESCRIPTION:U17 AAA United Sport Bulldogs vs LJAC Techmation Oil Kings @ Bill Hunter \n
URL:https://ssac.hockey/event/u17-aaa-game-1630-bha-4/
LOCATION:9200 - 163 Street NW\, Edmonton\, AB\, T5R 2P3\, Canada
CATEGORIES:U17 AAA
END:VEVENT
END:VCALENDAR