BEGIN:VCALENDAR
VERSION:2.0
PRODID:-//SSAC Hockey - ECPv4.5.7//NONSGML v1.0//EN
CALSCALE:GREGORIAN
METHOD:PUBLISH
X-WR-CALNAME:SSAC Hockey
X-ORIGINAL-URL:https://ssac.hockey
X-WR-CALDESC:Events for SSAC Hockey
BEGIN:VEVENT
DTSTART;TZID=America/Edmonton:20251102T140000
DTEND;TZID=America/Edmonton:20251102T161500
DTSTAMP:20260423T103220
CREATED:20250924T030106Z
LAST-MODIFIED:20251018T220839Z
UID:<span 
                data-original-string="8zPzPr2o9171btiEonq/MQ==052dJtHmR7sl5tayw6hCexPyXF6fD5gHNwTNLrwjbdOP3bgBvud2YqJ+0pIhEGE09Cy"
                class="apbct-email-encoder"
                title="This contact has been encoded by Anti-Spam by CleanTalk. Click to decode. To finish the decoding make sure that JavaScript is enabled in your browser.">40<span class="apbct-blur">*************************@ss**.hock</span>ey</span>
SUMMARY:U17 AAA Game 14:00 BHA
DESCRIPTION:U17 AAA United Sport & Cycle Bulldogs vs Lloydminster Rohan Lancers @ Bill Hunter \n
URL:https://ssac.hockey/event/u17-aaa-game-1400-bha-2/
LOCATION:9200 - 163 Street NW\, Edmonton\, AB\, T5R 2P3\, Canada
CATEGORIES:U17 AAA
END:VEVENT
END:VCALENDAR