BEGIN:VCALENDAR
VERSION:2.0
PRODID:-//SSAC Hockey - ECPv4.5.7//NONSGML v1.0//EN
CALSCALE:GREGORIAN
METHOD:PUBLISH
X-WR-CALNAME:SSAC Hockey
X-ORIGINAL-URL:https://ssac.hockey
X-WR-CALDESC:Events for SSAC Hockey
BEGIN:VEVENT
DTSTART;TZID=America/Edmonton:20220106T171500
DTEND;TZID=America/Edmonton:20220106T181500
DTSTAMP:20260423T022652
CREATED:20211107T231256Z
LAST-MODIFIED:20211116T204806Z
UID:<span 
                data-original-string="7vW1pB6oH4267aNiVzkurA==052FbZWR9TYW/Bv39fmSg/gPuW6SfDbPgPJUZRKO1EFkb7r9nZKGXBbjmQvoK4rajTj"
                class="apbct-email-encoder"
                title="This contact has been encoded by Anti-Spam by CleanTalk. Click to decode. To finish the decoding make sure that JavaScript is enabled in your browser.">23<span class="apbct-blur">*************************@ss**.hock</span>ey</span>
SUMMARY:U16 AAA Skills 17:15 SSA
DESCRIPTION:U16 AAA United Sport Bulldogs @ South Side \n
URL:https://ssac.hockey/event/u16-aaa-skills-1715-ssa-10/
LOCATION:10525 72 Ave. NW\, Edmonton\, AB\, T6E 0Z7\, Canada
CATEGORIES:U16 AAA
END:VEVENT
END:VCALENDAR