BEGIN:VCALENDAR
VERSION:2.0
PRODID:-//SSAC Hockey - ECPv4.5.7//NONSGML v1.0//EN
CALSCALE:GREGORIAN
METHOD:PUBLISH
X-WR-CALNAME:SSAC Hockey
X-ORIGINAL-URL:https://ssac.hockey
X-WR-CALDESC:Events for SSAC Hockey
BEGIN:VEVENT
DTSTART;TZID=America/Edmonton:20220215T194500
DTEND;TZID=America/Edmonton:20220215T204500
DTSTAMP:20260425T222719
CREATED:20211116T213935Z
LAST-MODIFIED:20211116T213935Z
UID:<span 
                data-original-string="vK0Ry7VAQj6f9Z9J+/xQ/w==052/99Onmc4AWoZUxlk2ATazlbAoekBW8Ghdq2rJ5mrlDmnqVvKV68VFvvVR/WOMvCP"
                class="apbct-email-encoder"
                title="This contact has been encoded by Anti-Spam by CleanTalk. Click to decode. To finish the decoding make sure that JavaScript is enabled in your browser.">23<span class="apbct-blur">*************************@ss**.hock</span>ey</span>
SUMMARY:U16 AAA Practice 19:45 SSA
DESCRIPTION:U16 AAA United Sport Bulldogs @ South Side \n
URL:https://ssac.hockey/event/u16-aaa-practice-1945-ssa-20/
LOCATION:10525 72 Ave. NW\, Edmonton\, AB\, T6E 0Z7\, Canada
CATEGORIES:U16 AAA
END:VEVENT
END:VCALENDAR