BEGIN:VCALENDAR
VERSION:2.0
PRODID:-//SSAC Hockey - ECPv4.5.7//NONSGML v1.0//EN
CALSCALE:GREGORIAN
METHOD:PUBLISH
X-WR-CALNAME:SSAC Hockey
X-ORIGINAL-URL:https://ssac.hockey
X-WR-CALDESC:Events for SSAC Hockey
BEGIN:VEVENT
DTSTART;TZID=America/Edmonton:20211207T194500
DTEND;TZID=America/Edmonton:20211207T204500
DTSTAMP:20260422T110841
CREATED:20211019T200725Z
LAST-MODIFIED:20211107T231148Z
UID:<span 
                data-original-string="8XJoNQBwaOuqzr/CVfMXkQ==052juGTa/5CFI3L/uTZV4bUMe4FZHpJJ5GgPzpbe/Tu7cNvTt8baOeb/wv53dOJ2yxA"
                class="apbct-email-encoder"
                title="This contact has been encoded by Anti-Spam by CleanTalk. Click to decode. To finish the decoding make sure that JavaScript is enabled in your browser.">22<span class="apbct-blur">*************************@ss**.hock</span>ey</span>
SUMMARY:U16 AAA Practice 19:45 SSA
DESCRIPTION:U16 AAA United Sport Bulldogs @ South Side \n
URL:https://ssac.hockey/event/u16-aaa-practice-1945-ssa-12/
LOCATION:10525 72 Ave. NW\, Edmonton\, AB\, T6E 0Z7\, Canada
CATEGORIES:U16 AAA
END:VEVENT
END:VCALENDAR