BEGIN:VCALENDAR
VERSION:2.0
PRODID:-//SSAC Hockey - ECPv4.5.7//NONSGML v1.0//EN
CALSCALE:GREGORIAN
METHOD:PUBLISH
X-WR-CALNAME:SSAC Hockey
X-ORIGINAL-URL:https://ssac.hockey
X-WR-CALDESC:Events for SSAC Hockey
BEGIN:VEVENT
DTSTART;TZID=America/Edmonton:20220213T120000
DTEND;TZID=America/Edmonton:20220213T141500
DTSTAMP:20260425T205437
CREATED:20211116T214037Z
LAST-MODIFIED:20211116T214037Z
UID:<span 
                data-original-string="aKpyYA7y2ceeCC+mbQmoYA==052lvck4LKzhWFtONpYLOF+HM35fsbOZx+la+7zO5bQFYAQnR8M+5N1WklCOZwCGx96"
                class="apbct-email-encoder"
                title="This contact has been encoded by Anti-Spam by CleanTalk. Click to decode. To finish the decoding make sure that JavaScript is enabled in your browser.">23<span class="apbct-blur">*************************@ss**.hock</span>ey</span>
SUMMARY:U16 AAA Game 12:00 TCA
DESCRIPTION:U16 AAA United Sport Bulldogs vs Lloydminster R’ohan Bobcats @ Terwillegar A \n
URL:https://ssac.hockey/event/u16-aaa-game-1200-tca-2/
LOCATION:2051 Leger Rd NW\, Edmonton\, AB\, T6R 0R8\, Canada
CATEGORIES:U16 AAA
END:VEVENT
END:VCALENDAR