BEGIN:VCALENDAR
VERSION:2.0
PRODID:-//SSAC Hockey - ECPv4.5.7//NONSGML v1.0//EN
CALSCALE:GREGORIAN
METHOD:PUBLISH
X-WR-CALNAME:SSAC Hockey
X-ORIGINAL-URL:https://ssac.hockey
X-WR-CALDESC:Events for SSAC Hockey
BEGIN:VEVENT
DTSTART;TZID=America/Edmonton:20220128T210000
DTEND;TZID=America/Edmonton:20220128T220000
DTSTAMP:20260424T173403
CREATED:20220101T210307Z
LAST-MODIFIED:20220101T210307Z
UID:<span 
                data-original-string="i3tJCoJ+WiFh3x6JJFg8gw==052BHYoJVOavxOhDZjivGo0aFL2ZSDGxHSnUdUqskDUJYZUf3SEdi3U0M9mapwkobaZ"
                class="apbct-email-encoder"
                title="This contact has been encoded by Anti-Spam by CleanTalk. Click to decode. To finish the decoding make sure that JavaScript is enabled in your browser.">25<span class="apbct-blur">*************************@ss**.hock</span>ey</span>
SUMMARY:U16 AA CH Practice 21:00 KMB
DESCRIPTION:U16 AA Cameron Homes Mustangs @ Kinsmen B \n
URL:https://ssac.hockey/event/u16-aa-ch-practice-2100-kmb-3/
LOCATION:1979 111 St NW\, Edmonton\, AB\, T6J 7C6\, Canada
CATEGORIES:U16 AA,U16 AA Cameron Homes
END:VEVENT
END:VCALENDAR