BEGIN:VCALENDAR
VERSION:2.0
PRODID:-//SSAC Hockey - ECPv4.5.7//NONSGML v1.0//EN
CALSCALE:GREGORIAN
METHOD:PUBLISH
X-WR-CALNAME:SSAC Hockey
X-ORIGINAL-URL:https://ssac.hockey
X-WR-CALDESC:Events for SSAC Hockey
BEGIN:VEVENT
DTSTART;TZID=America/Edmonton:20211120T201500
DTEND;TZID=America/Edmonton:20211120T211500
DTSTAMP:20260423T114937
CREATED:20211027T231107Z
LAST-MODIFIED:20211027T231107Z
UID:<span 
                data-original-string="9KnaMMcmfzdbnuwdbyXgQA==052WEHie34JsCKwACGtO5hpW1QwHIGe8+re9VkrfUoAfXTHxZtW4buKSzlNsQqZoymr"
                class="apbct-email-encoder"
                title="This contact has been encoded by Anti-Spam by CleanTalk. Click to decode. To finish the decoding make sure that JavaScript is enabled in your browser.">22<span class="apbct-blur">*************************@ss**.hock</span>ey</span>
SUMMARY:U16 AA CH Practice 20:15 KMB
DESCRIPTION:U16 AA Cameron Homes Mustangs @ Kinsmen B \n
URL:https://ssac.hockey/event/u16-aa-ch-practice-2015-kmb-2/
LOCATION:1979 111 St NW\, Edmonton\, AB\, T6J 7C6\, Canada
CATEGORIES:U16 AA,U16 AA Cameron Homes
END:VEVENT
END:VCALENDAR