BEGIN:VCALENDAR
VERSION:2.0
PRODID:-//SSAC Hockey - ECPv4.5.7//NONSGML v1.0//EN
CALSCALE:GREGORIAN
METHOD:PUBLISH
X-WR-CALNAME:SSAC Hockey
X-ORIGINAL-URL:https://ssac.hockey
X-WR-CALDESC:Events for SSAC Hockey
BEGIN:VEVENT
DTSTART;TZID=America/Edmonton:20220124T200000
DTEND;TZID=America/Edmonton:20220124T210000
DTSTAMP:20260426T005145
CREATED:20220101T210135Z
LAST-MODIFIED:20220101T210135Z
UID:<span 
                data-original-string="9r4bZhXgxPF7VbPVV/uJJw==052mDPnc3unXGn8iU6kgB5XN3hxRFaFC8zGikm4qYW9h4adt3IlPQXUpsXo2YKQNi+f"
                class="apbct-email-encoder"
                title="This contact has been encoded by Anti-Spam by CleanTalk. Click to decode. To finish the decoding make sure that JavaScript is enabled in your browser.">25<span class="apbct-blur">*************************@ss**.hock</span>ey</span>
SUMMARY:U16 AA CH Practice 20:00 SSA
DESCRIPTION:U16 AA Cameron Homes Mustangs @ South Side \n
URL:https://ssac.hockey/event/u16-aa-ch-practice-2000-ssa-7/
LOCATION:10525 72 Ave. NW\, Edmonton\, AB\, T6E 0Z7\, Canada
CATEGORIES:U16 AA,U16 AA Cameron Homes
END:VEVENT
END:VCALENDAR