BEGIN:VCALENDAR
VERSION:2.0
PRODID:-//SSAC Hockey - ECPv4.5.7//NONSGML v1.0//EN
CALSCALE:GREGORIAN
METHOD:PUBLISH
X-WR-CALNAME:SSAC Hockey
X-ORIGINAL-URL:https://ssac.hockey
X-WR-CALDESC:Events for SSAC Hockey
BEGIN:VEVENT
DTSTART;TZID=America/Edmonton:20211206T200000
DTEND;TZID=America/Edmonton:20211206T210000
DTSTAMP:20260422T111447
CREATED:20211027T230949Z
LAST-MODIFIED:20211122T052328Z
UID:<span 
                data-original-string="AHf+jmIqi3josUNM/SJkFg==052KlBqMNp5/DLVzrTw5NI02KaZk8iLa4zdWcVSeoQ4V3gU6Ln73aYoNvJ3Lsk0p6Lt"
                class="apbct-email-encoder"
                title="This contact has been encoded by Anti-Spam by CleanTalk. Click to decode. To finish the decoding make sure that JavaScript is enabled in your browser.">22<span class="apbct-blur">*************************@ss**.hock</span>ey</span>
SUMMARY:U16 AA CH Practice 20:00 SSA
DESCRIPTION:U16 AA Cameron Homes Mustangs @ South Side \n
URL:https://ssac.hockey/event/u16-aa-ch-practice-2000-ssa-2/
LOCATION:10525 72 Ave. NW\, Edmonton\, AB\, T6E 0Z7\, Canada
CATEGORIES:U16 AA,U16 AA Cameron Homes
END:VEVENT
END:VCALENDAR