BEGIN:VCALENDAR
VERSION:2.0
PRODID:-//SSAC Hockey - ECPv4.5.7//NONSGML v1.0//EN
CALSCALE:GREGORIAN
METHOD:PUBLISH
X-WR-CALNAME:SSAC Hockey
X-ORIGINAL-URL:https://ssac.hockey
X-WR-CALDESC:Events for SSAC Hockey
BEGIN:VEVENT
DTSTART;TZID=America/Edmonton:20211207T203000
DTEND;TZID=America/Edmonton:20211207T224500
DTSTAMP:20260422T111840
CREATED:20211027T231207Z
LAST-MODIFIED:20211027T231207Z
UID:<span 
                data-original-string="Qr2p2F3i7OdKUBxQZQQm8A==0525Y1Jxm78mtoQtVn8J9ivs8gUxYqKruUecZ8A+bXC5OC7smDOsWzSY/L4Nqc/eSc6"
                class="apbct-email-encoder"
                title="This contact has been encoded by Anti-Spam by CleanTalk. Click to decode. To finish the decoding make sure that JavaScript is enabled in your browser.">22<span class="apbct-blur">*************************@ss**.hock</span>ey</span>
SUMMARY:U16 AA CH Game 20:30 RRR
DESCRIPTION:U16 AA Cameron Homes Mustangs at SPKAC TAHK Projects Senators @ Randy Rosen | Sherwood Park \n
URL:https://ssac.hockey/event/u16-aa-ch-game-2030-rrr/
LOCATION:2015 Oak St\, AB\, Sherwood Park\, T8A 0W9\, Canada
CATEGORIES:U16 AA,U16 AA Cameron Homes
END:VEVENT
END:VCALENDAR