BEGIN:VCALENDAR
VERSION:2.0
PRODID:-//SSAC Hockey - ECPv4.5.7//NONSGML v1.0//EN
CALSCALE:GREGORIAN
METHOD:PUBLISH
X-WR-CALNAME:SSAC Hockey
X-ORIGINAL-URL:https://ssac.hockey
X-WR-CALDESC:Events for SSAC Hockey
BEGIN:VEVENT
DTSTART;TZID=America/Edmonton:20220113T200000
DTEND;TZID=America/Edmonton:20220113T221500
DTSTAMP:20260423T151427
CREATED:20220101T210333Z
LAST-MODIFIED:20220101T210659Z
UID:<span 
                data-original-string="z07Xe2AZWD5pNuub44frVw==052ldxzCHfjXkM4ZxmQgHaq0IvbRyfMz195Se49Dc7cHUYXEWG76OkQ8QHNnxaW3ZN+"
                class="apbct-email-encoder"
                title="This contact has been encoded by Anti-Spam by CleanTalk. Click to decode. To finish the decoding make sure that JavaScript is enabled in your browser.">25<span class="apbct-blur">*************************@ss**.hock</span>ey</span>
SUMMARY:U16 AA CH Game 20:00 TCD
DESCRIPTION:U16 AA Cameron Homes Mustangs vs CAC Volvo of Edmonton @ Terwillegar D \n
URL:https://ssac.hockey/event/u16-aa-ch-game-2000-tcd-3/
LOCATION:2051 Leger Rd NW\, Edmonton\, AB\, T6R 0R8\, Canada
CATEGORIES:U16 AA,U16 AA Cameron Homes
END:VEVENT
END:VCALENDAR