BEGIN:VCALENDAR
VERSION:2.0
PRODID:-//SSAC Hockey - ECPv4.5.7//NONSGML v1.0//EN
CALSCALE:GREGORIAN
METHOD:PUBLISH
X-WR-CALNAME:SSAC Hockey
X-ORIGINAL-URL:https://ssac.hockey
X-WR-CALDESC:Events for SSAC Hockey
BEGIN:VEVENT
DTSTART;TZID=America/Edmonton:20211212T200000
DTEND;TZID=America/Edmonton:20211212T221500
DTSTAMP:20260425T104721
CREATED:20211027T231207Z
LAST-MODIFIED:20211027T231207Z
UID:<span 
                data-original-string="El+kSUdETHdu92Vo2xt7aA==052UI8KJSSABFamNPo3jYV8bki5DAKeLx1yQB91npTb/Gue+3eZ5vJlCqZeI2iagSBv"
                class="apbct-email-encoder"
                title="This contact has been encoded by Anti-Spam by CleanTalk. Click to decode. To finish the decoding make sure that JavaScript is enabled in your browser.">22<span class="apbct-blur">*************************@ss**.hock</span>ey</span>
SUMMARY:U16 AA CH Game 20:00 MWA
DESCRIPTION:U16 AA Cameron Homes Mustangs vs Camrose Vikings @ Kyle Fundytus Mill Woods A \n
URL:https://ssac.hockey/event/u16-aa-ch-game-2000-mwa-2/
LOCATION:7207 28 Ave NW\, Edmonton\, AB\, T6K 3Z3\, Canada
CATEGORIES:U16 AA,U16 AA Cameron Homes
END:VEVENT
END:VCALENDAR