BEGIN:VCALENDAR
VERSION:2.0
PRODID:-//SSAC Hockey - ECPv4.5.7//NONSGML v1.0//EN
CALSCALE:GREGORIAN
METHOD:PUBLISH
X-WR-CALNAME:SSAC Hockey
X-ORIGINAL-URL:https://ssac.hockey
X-WR-CALDESC:Events for SSAC Hockey
BEGIN:VEVENT
DTSTART;TZID=America/Edmonton:20220213T131500
DTEND;TZID=America/Edmonton:20220213T131500
DTSTAMP:20260425T204704
CREATED:20220203T003546Z
LAST-MODIFIED:20220203T003546Z
UID:<span 
                data-original-string="zoR6x/nVGTjrpJu+7OzgDw==0524Gf+RNhmDaV3BRDTPNh5b9+NthxreCp1PRW4JqxYFSlk78EpdopnUEkFPZGSVCXH"
                class="apbct-email-encoder"
                title="This contact has been encoded by Anti-Spam by CleanTalk. Click to decode. To finish the decoding make sure that JavaScript is enabled in your browser.">26<span class="apbct-blur">*************************@ss**.hock</span>ey</span>
SUMMARY:U16 AA CH Game 13:15 DCC
DESCRIPTION:U16 AA Cameron Homes Mustangs at Fort Saskatchewan Rangers @ Dow Centennial \n
URL:https://ssac.hockey/event/u16-aa-ch-game-1315-dcc/
LOCATION:8700 84 St\, Fort Saskatchewan\, AB\, T8L 4P5\, Canada
CATEGORIES:U16 AA,U16 AA Cameron Homes
END:VEVENT
END:VCALENDAR