BEGIN:VCALENDAR
VERSION:2.0
PRODID:-//SSAC Hockey - ECPv4.5.7//NONSGML v1.0//EN
CALSCALE:GREGORIAN
METHOD:PUBLISH
X-WR-CALNAME:SSAC Hockey
X-ORIGINAL-URL:https://ssac.hockey
X-WR-CALDESC:Events for SSAC Hockey
BEGIN:VEVENT
DTSTART;VALUE=DATE:20250206
DTEND;VALUE=DATE:20250209
DTSTAMP:20260423T173155
CREATED:20250130T210349Z
LAST-MODIFIED:20250130T210349Z
UID:<span 
                data-original-string="Lig/Ln3nzsHZl4CuJeND0Q==052h+L2COcLx2GJ70Ds97oelj0lQ6Cjuuu4us20ZAcjrSnzjo2szEslIv+8YKmQ/KmQ"
                class="apbct-email-encoder"
                title="This contact has been encoded by Anti-Spam by CleanTalk. Click to decode. To finish the decoding make sure that JavaScript is enabled in your browser.">39<span class="apbct-blur">*************************@ss**.hock</span>ey</span>
SUMMARY:U16 AA Calgary Cowboy Classic Tournament
DESCRIPTION:U16 AA Cameron Homes Mustangs @ Calgary Cowboy Classic Tournament | Winsport \n
URL:https://ssac.hockey/event/u16-aa-calgary-cowboy-classic-tournament/
LOCATION:88 Canada Olympic Rd. SW\, Calgary\, AB\, T2B 5R5\, Canada
CATEGORIES:U16 AA,U16 AA Cameron Homes
END:VEVENT
END:VCALENDAR