BEGIN:VCALENDAR
VERSION:2.0
PRODID:-//SSAC Hockey - ECPv4.5.7//NONSGML v1.0//EN
CALSCALE:GREGORIAN
METHOD:PUBLISH
X-WR-CALNAME:SSAC Hockey
X-ORIGINAL-URL:https://ssac.hockey
X-WR-CALDESC:Events for SSAC Hockey
BEGIN:VEVENT
DTSTART;TZID=America/Edmonton:20211208T201500
DTEND;TZID=America/Edmonton:20211208T211500
DTSTAMP:20260424T120349
CREATED:20211018T213135Z
LAST-MODIFIED:20211115T230036Z
UID:<span 
                data-original-string="4B6HHEPWEz0oDVuapdD46g==052n96tkPFG8ChQ1jLNR2fkUDeQ+/d9G67uI1UYfjWenJf5Ot3xF9Ps/Rdlh0ycX+EU"
                class="apbct-email-encoder"
                title="This contact has been encoded by Anti-Spam by CleanTalk. Click to decode. To finish the decoding make sure that JavaScript is enabled in your browser.">22<span class="apbct-blur">*************************@ss**.hock</span>ey</span>
SUMMARY:U15 AAA Practice 20:15 TCC
DESCRIPTION:U15 AAA Southgate Lions @ Terwillegar C \n
URL:https://ssac.hockey/event/u15-aaa-practice-2015-tcc-9/
LOCATION:2051 Leger Rd NW\, Edmonton\, AB\, T6R 0R8\, Canada
CATEGORIES:U15 AAA
END:VEVENT
END:VCALENDAR