BEGIN:VCALENDAR
VERSION:2.0
PRODID:-//SSAC Hockey - ECPv4.5.7//NONSGML v1.0//EN
CALSCALE:GREGORIAN
METHOD:PUBLISH
X-WR-CALNAME:SSAC Hockey
X-ORIGINAL-URL:https://ssac.hockey
X-WR-CALDESC:Events for SSAC Hockey
BEGIN:VEVENT
DTSTART;TZID=America/Edmonton:20211124T201500
DTEND;TZID=America/Edmonton:20211124T211500
DTSTAMP:20260423T044025
CREATED:20211018T213107Z
LAST-MODIFIED:20211018T213107Z
UID:<span 
                data-original-string="5JT2dzZUloLiEe9MbDjOzA==052YaeM1MJfewIY9ZPcTU8H5/j1nQA2Bv2Q2xHitJL+VYRXofAjBLJLqM+dpBKcphmW"
                class="apbct-email-encoder"
                title="This contact has been encoded by Anti-Spam by CleanTalk. Click to decode. To finish the decoding make sure that JavaScript is enabled in your browser.">22<span class="apbct-blur">*************************@ss**.hock</span>ey</span>
SUMMARY:U15 AAA Practice 20:15 TCC
DESCRIPTION:U15 AAA Southgate Lions @ Terwillegar C \n
URL:https://ssac.hockey/event/u15-aaa-practice-2015-tcc-7/
LOCATION:2051 Leger Rd NW\, Edmonton\, AB\, T6R 0R8\, Canada
CATEGORIES:U15 AAA
END:VEVENT
END:VCALENDAR