BEGIN:VCALENDAR
VERSION:2.0
PRODID:-//SSAC Hockey - ECPv4.5.7//NONSGML v1.0//EN
CALSCALE:GREGORIAN
METHOD:PUBLISH
X-WR-CALNAME:SSAC Hockey
X-ORIGINAL-URL:https://ssac.hockey
X-WR-CALDESC:Events for SSAC Hockey
BEGIN:VEVENT
DTSTART;TZID=America/Edmonton:20220117T200000
DTEND;TZID=America/Edmonton:20220117T210000
DTSTAMP:20260425T130717
CREATED:20211116T033500Z
LAST-MODIFIED:20211116T033500Z
UID:<span 
                data-original-string="AmCT8IykGWcB52mDlcwerw==052i+xv0Hk7F/dFOaoVh3dSAl06zVHV3Fxo6HnwrTp4psz9hFcJ26+T0ZcqtecquWsX"
                class="apbct-email-encoder"
                title="This contact has been encoded by Anti-Spam by CleanTalk. Click to decode. To finish the decoding make sure that JavaScript is enabled in your browser.">23<span class="apbct-blur">*************************@ss**.hock</span>ey</span>
SUMMARY:U15 AAA Practice 20:00 CFA
DESCRIPTION:U15 AAA Southgate Lions @ Confederation \n
URL:https://ssac.hockey/event/u15-aaa-practice-2000-cfa-13/
LOCATION:11204 43 Ave NW\, Edmonton\, AB\, T6J 2R3\, Canada
CATEGORIES:U15 AAA
END:VEVENT
END:VCALENDAR