BEGIN:VCALENDAR
VERSION:2.0
PRODID:-//SSAC Hockey - ECPv4.5.7//NONSGML v1.0//EN
CALSCALE:GREGORIAN
METHOD:PUBLISH
X-WR-CALNAME:SSAC Hockey
X-ORIGINAL-URL:https://ssac.hockey
X-WR-CALDESC:Events for SSAC Hockey
BEGIN:VEVENT
DTSTART;TZID=America/Edmonton:20220213T183000
DTEND;TZID=America/Edmonton:20220213T193000
DTSTAMP:20260425T205302
CREATED:20220114T193410Z
LAST-MODIFIED:20220212T193427Z
UID:<span 
                data-original-string="gkCVuo376gIs9FHI50jr+g==052eq5ov2vEtWwhbL4zAtzWs1TTBOV/AbYhN0gemdOZ/JHgho8OBeMH2HSIn4BN1Vgx"
                class="apbct-email-encoder"
                title="This contact has been encoded by Anti-Spam by CleanTalk. Click to decode. To finish the decoding make sure that JavaScript is enabled in your browser.">25<span class="apbct-blur">*************************@ss**.hock</span>ey</span>
SUMMARY:U15 AAA Practice 18:30 CFA —CANCELLED—
DESCRIPTION:U15 AAA Southgate Lions @ Confederation \n
URL:https://ssac.hockey/event/u15-aaa-practice-1830-cfa-3/
LOCATION:11204 43 Ave NW\, Edmonton\, AB\, T6J 2R3\, Canada
CATEGORIES:U15 AAA
END:VEVENT
END:VCALENDAR