BEGIN:VCALENDAR
VERSION:2.0
PRODID:-//SSAC Hockey - ECPv4.5.7//NONSGML v1.0//EN
CALSCALE:GREGORIAN
METHOD:PUBLISH
X-WR-CALNAME:SSAC Hockey
X-ORIGINAL-URL:https://ssac.hockey
X-WR-CALDESC:Events for SSAC Hockey
BEGIN:VEVENT
DTSTART;TZID=America/Edmonton:20211228T131500
DTEND;TZID=America/Edmonton:20211228T141500
DTSTAMP:20260422T091419
CREATED:20211223T195601Z
LAST-MODIFIED:20211223T195601Z
UID:<span 
                data-original-string="7RsnL9ey/xwVYLo02uOU+w==052+mkSB89OwuAx1nUJwnggnShA1aLNflMaCsnuLvNk+iSp5MQHCXdpJOQ4n3IMYPJm"
                class="apbct-email-encoder"
                title="This contact has been encoded by Anti-Spam by CleanTalk. Click to decode. To finish the decoding make sure that JavaScript is enabled in your browser.">24<span class="apbct-blur">*************************@ss**.hock</span>ey</span>
SUMMARY:U15 AAA Practice 13:15 KEA
DESCRIPTION:U15 AAA Southgate Lions @ Kenilworth \n
URL:https://ssac.hockey/event/u15-aaa-practice-1315-kea/
LOCATION:8313 68A St NW\, Edmonton\, AB\, T6B 0J9\, Canada
CATEGORIES:U15 AAA
END:VEVENT
END:VCALENDAR