BEGIN:VCALENDAR
VERSION:2.0
PRODID:-//SSAC Hockey - ECPv4.5.7//NONSGML v1.0//EN
CALSCALE:GREGORIAN
METHOD:PUBLISH
X-WR-CALNAME:SSAC Hockey
X-ORIGINAL-URL:https://ssac.hockey
X-WR-CALDESC:Events for SSAC Hockey
BEGIN:VEVENT
DTSTART;TZID=America/Edmonton:20211204T193000
DTEND;TZID=America/Edmonton:20211204T214500
DTSTAMP:20260422T093547
CREATED:20211018T213229Z
LAST-MODIFIED:20211115T230103Z
UID:<span 
                data-original-string="nmc8cd0d8o7tyzHBbD2Vyw==052shnxS6Syhsp6E4gk2d2vQrnQe58JKhKfDtQ1QsEq+qrhCH+w6iBw8CwM0rdBMePe"
                class="apbct-email-encoder"
                title="This contact has been encoded by Anti-Spam by CleanTalk. Click to decode. To finish the decoding make sure that JavaScript is enabled in your browser.">22<span class="apbct-blur">*************************@ss**.hock</span>ey</span>
SUMMARY:U15 AAA Game 19:30 BHA
DESCRIPTION:U15 AAA Southgate Lions vs KC Squires @ Bill Hunter \n
URL:https://ssac.hockey/event/u15-aaa-game-1930-bha/
LOCATION:9200 - 163 Street NW\, Edmonton\, AB\, T5R 2P3\, Canada
CATEGORIES:U15 AAA
END:VEVENT
END:VCALENDAR