BEGIN:VCALENDAR
VERSION:2.0
PRODID:-//SSAC Hockey - ECPv4.5.7//NONSGML v1.0//EN
CALSCALE:GREGORIAN
METHOD:PUBLISH
X-WR-CALNAME:SSAC Hockey
X-ORIGINAL-URL:https://ssac.hockey
X-WR-CALDESC:Events for SSAC Hockey
BEGIN:VEVENT
DTSTART;TZID=America/Edmonton:20220107T191500
DTEND;TZID=America/Edmonton:20220107T213000
DTSTAMP:20260424T194247
CREATED:20211229T204034Z
LAST-MODIFIED:20211229T204034Z
UID:<span 
                data-original-string="lxquwy68FrcUDdloPvpKrw==0520igaKSVFdiS6MzBAMTZYt4wF/THg+usRgcvw3+hGpT+btTHhLbpHygIrwfiNbBKy"
                class="apbct-email-encoder"
                title="This contact has been encoded by Anti-Spam by CleanTalk. Click to decode. To finish the decoding make sure that JavaScript is enabled in your browser.">24<span class="apbct-blur">*************************@ss**.hock</span>ey</span>
SUMMARY:U15 AAA Game 19:15 TME
DESCRIPTION:U15 AAA Southgate Lions vs Leduc Oil Kings @ Meadows East \n
URL:https://ssac.hockey/event/u15-aaa-game-1915-tme/
LOCATION:2704 17 St NW\, Edmonton\, AB\, T6T 1H9\, Canada
CATEGORIES:U15 AAA
END:VEVENT
END:VCALENDAR