BEGIN:VCALENDAR
VERSION:2.0
PRODID:-//SSAC Hockey - ECPv4.5.7//NONSGML v1.0//EN
CALSCALE:GREGORIAN
METHOD:PUBLISH
X-WR-CALNAME:SSAC Hockey
X-ORIGINAL-URL:https://ssac.hockey
X-WR-CALDESC:Events for SSAC Hockey
BEGIN:VEVENT
DTSTART;TZID=America/Edmonton:20211205T174500
DTEND;TZID=America/Edmonton:20211205T200000
DTSTAMP:20260422T075036
CREATED:20211115T230104Z
LAST-MODIFIED:20211115T230104Z
UID:<span 
                data-original-string="jn8a4vZ3qt8SBY5TACXonQ==052slu+Mm5h/pq8gfU0to8m7KwlmSZQJV/WIO20Ff76gdHvvXj2PK5AgIOsOALCdKFl"
                class="apbct-email-encoder"
                title="This contact has been encoded by Anti-Spam by CleanTalk. Click to decode. To finish the decoding make sure that JavaScript is enabled in your browser.">23<span class="apbct-blur">*************************@ss**.hock</span>ey</span>
SUMMARY:U15 AAA Game 17:45 BHA
DESCRIPTION:U15 AAA Southgate Lions vs Fort Saskatchewan Enhance It Rangers @ Bill Hunter \n
URL:https://ssac.hockey/event/u15-aaa-game-1745-bha/
LOCATION:9200 - 163 Street NW\, Edmonton\, AB\, T5R 2P3\, Canada
CATEGORIES:U15 AAA
END:VEVENT
END:VCALENDAR