BEGIN:VCALENDAR
VERSION:2.0
PRODID:-//SSAC Hockey - ECPv4.5.7//NONSGML v1.0//EN
CALSCALE:GREGORIAN
METHOD:PUBLISH
X-WR-CALNAME:SSAC Hockey
X-ORIGINAL-URL:https://ssac.hockey
X-WR-CALDESC:Events for SSAC Hockey
BEGIN:VEVENT
DTSTART;TZID=America/Edmonton:20220123T174500
DTEND;TZID=America/Edmonton:20220123T200000
DTSTAMP:20260424T073304
CREATED:20211116T033610Z
LAST-MODIFIED:20211116T033610Z
UID:<span 
                data-original-string="J4Xb9SJoXu23sJsESpXUXg==052w48Ko0eV1rYYBXHHdIqX7Xc0lLk3IzEI1A7SpAWv4tLiI+6e2iibeJS45w81/MlS"
                class="apbct-email-encoder"
                title="This contact has been encoded by Anti-Spam by CleanTalk. Click to decode. To finish the decoding make sure that JavaScript is enabled in your browser.">23<span class="apbct-blur">*************************@ss**.hock</span>ey</span>
SUMMARY:U15 AAA Game 17:45 BHA
DESCRIPTION:U15 AAA Southgate Lions at MLAC Scott Pump @ Bill Hunter \n
URL:https://ssac.hockey/event/u15-aaa-game-1745-bha-2/
LOCATION:9200 - 163 Street NW\, Edmonton\, AB\, T5R 2P3\, Canada
CATEGORIES:U15 AAA
END:VEVENT
END:VCALENDAR