BEGIN:VCALENDAR
VERSION:2.0
PRODID:-//SSAC Hockey - ECPv4.5.7//NONSGML v1.0//EN
CALSCALE:GREGORIAN
METHOD:PUBLISH
X-WR-CALNAME:SSAC Hockey
X-ORIGINAL-URL:https://ssac.hockey
X-WR-CALDESC:Events for SSAC Hockey
BEGIN:VEVENT
DTSTART;TZID=America/Edmonton:20211211T170000
DTEND;TZID=America/Edmonton:20211211T191500
DTSTAMP:20260423T153647
CREATED:20211115T230104Z
LAST-MODIFIED:20211115T230104Z
UID:<span 
                data-original-string="1jdT12HdUm2A/rQWE4QhdA==052LrswNVphvVocXCKCB6zX1XPBNW2fjegULYSC59XGPzOQ8ffnVKxewPRiiM/vdAY9"
                class="apbct-email-encoder"
                title="This contact has been encoded by Anti-Spam by CleanTalk. Click to decode. To finish the decoding make sure that JavaScript is enabled in your browser.">23<span class="apbct-blur">*************************@ss**.hock</span>ey</span>
SUMMARY:U15 AAA Game 17:00 BHA
DESCRIPTION:U15 AAA Southgate Lions at CAC Volvo of Edmonton @ Bill Hunter \n
URL:https://ssac.hockey/event/u15-aaa-game-1700-bha-2/
LOCATION:9200 - 163 Street NW\, Edmonton\, AB\, T5R 2P3\, Canada
CATEGORIES:U15 AAA
END:VEVENT
END:VCALENDAR