BEGIN:VCALENDAR
VERSION:2.0
PRODID:-//SSAC Hockey - ECPv4.5.7//NONSGML v1.0//EN
CALSCALE:GREGORIAN
METHOD:PUBLISH
X-WR-CALNAME:SSAC Hockey
X-ORIGINAL-URL:https://ssac.hockey
X-WR-CALDESC:Events for SSAC Hockey
BEGIN:VEVENT
DTSTART;TZID=America/Edmonton:20250215T163000
DTEND;TZID=America/Edmonton:20250215T184500
DTSTAMP:20260423T205426
CREATED:20250129T205847Z
LAST-MODIFIED:20250129T205847Z
UID:<span 
                data-original-string="3alTgZ/WqgzmyzlHLcMUBw==052YiJLOYuceOB/9kz/AxvCYa/TLe1QpN4vw2Ipfd1igdD+oqP2R/BSASDgq3ob2/KM"
                class="apbct-email-encoder"
                title="This contact has been encoded by Anti-Spam by CleanTalk. Click to decode. To finish the decoding make sure that JavaScript is enabled in your browser.">39<span class="apbct-blur">*************************@ss**.hock</span>ey</span>
SUMMARY:U15 AAA Game 16:30 CMA
DESCRIPTION:U15 AAA Southgate Lions at GPAC Higson Dental Storm @ Chris McMillan | Grande Prairie \n
URL:https://ssac.hockey/event/u15-aaa-game-1630-cma-3/
LOCATION:7407-108 Street\, Clairmont\, AB\, T0H 0W0\, Canada
CATEGORIES:U15 AAA
END:VEVENT
END:VCALENDAR