BEGIN:VCALENDAR
VERSION:2.0
PRODID:-//SSAC Hockey - ECPv4.5.7//NONSGML v1.0//EN
CALSCALE:GREGORIAN
METHOD:PUBLISH
X-WR-CALNAME:SSAC Hockey
X-ORIGINAL-URL:https://ssac.hockey
X-WR-CALDESC:Events for SSAC Hockey
BEGIN:VEVENT
DTSTART;TZID=America/Edmonton:20220122T131500
DTEND;TZID=America/Edmonton:20220122T153000
DTSTAMP:20260425T193655
CREATED:20211116T033610Z
LAST-MODIFIED:20211116T033610Z
UID:<span 
                data-original-string="Wg8nWnvkp77PTHpBaZbbmA==0526PSE0H+JfflGFLkCoNcd00yPGvZcG2HTos29SINkA5LGxBjDLTpwZOWwm4N4v+7C"
                class="apbct-email-encoder"
                title="This contact has been encoded by Anti-Spam by CleanTalk. Click to decode. To finish the decoding make sure that JavaScript is enabled in your browser.">23<span class="apbct-blur">*************************@ss**.hock</span>ey</span>
SUMMARY:U15 AAA Game 13:15 GFA
DESCRIPTION:U15 AAA Southgate Lions at PAC Saints @ Grant Fuhr  \n
URL:https://ssac.hockey/event/u15-aaa-game-1315-gfa/
LOCATION:9 Agrena Rd\, Spruce Grove\, AB\, T7X 3E8\, Canada
CATEGORIES:U15 AAA
END:VEVENT
END:VCALENDAR