BEGIN:VCALENDAR
VERSION:2.0
PRODID:-//SSAC Hockey - ECPv4.5.7//NONSGML v1.0//EN
CALSCALE:GREGORIAN
METHOD:PUBLISH
X-WR-CALNAME:SSAC Hockey
X-ORIGINAL-URL:https://ssac.hockey
X-WR-CALDESC:Events for SSAC Hockey
BEGIN:VEVENT
DTSTART;TZID=America/Edmonton:20211123T194500
DTEND;TZID=America/Edmonton:20211123T204500
DTSTAMP:20260423T043838
CREATED:20211026T024757Z
LAST-MODIFIED:20211026T024757Z
UID:<span 
                data-original-string="9GKkBMTDYhyBleahcX5Heg==052NETQejQasfdw7RHVBfA+ThH/3TH57Q4SseNB9t7lgqi1wnuJvv85oUWyN7gqfdwB"
                class="apbct-email-encoder"
                title="This contact has been encoded by Anti-Spam by CleanTalk. Click to decode. To finish the decoding make sure that JavaScript is enabled in your browser.">22<span class="apbct-blur">*************************@ss**.hock</span>ey</span>
SUMMARY:U15 AA PH Skills 19:45 TIA
DESCRIPTION:U15 AA Pro Hockey Life | Better Player @ Tipton \n
URL:https://ssac.hockey/event/u15-aa-ph-skills-1945-tia-7/
LOCATION:10828 80 Ave NW\, Edmonton\, AB\, T6E 5B5\, Canada
CATEGORIES:U15 AA,U15 AA Pro Hockey Life
END:VEVENT
END:VCALENDAR