BEGIN:VCALENDAR
VERSION:2.0
PRODID:-//SSAC Hockey - ECPv4.5.7//NONSGML v1.0//EN
CALSCALE:GREGORIAN
METHOD:PUBLISH
X-WR-CALNAME:SSAC Hockey
X-ORIGINAL-URL:https://ssac.hockey
X-WR-CALDESC:Events for SSAC Hockey
BEGIN:VEVENT
DTSTART;TZID=America/Edmonton:20220216T210000
DTEND;TZID=America/Edmonton:20220216T220000
DTSTAMP:20260426T014114
CREATED:20220204T211259Z
LAST-MODIFIED:20220204T211259Z
UID:<span 
                data-original-string="DS+716HZ5SuN1s1ihwDUVg==052HSRc2F6lEdjkCSuuBnJXI+c9pZyOTlRnTvOyHCrHdPNxXZwlhTCnDqqrH/97wPro"
                class="apbct-email-encoder"
                title="This contact has been encoded by Anti-Spam by CleanTalk. Click to decode. To finish the decoding make sure that JavaScript is enabled in your browser.">26<span class="apbct-blur">*************************@ss**.hock</span>ey</span>
SUMMARY:U15 AA PH Practice 21:00 TIA
DESCRIPTION:U15 AA Pro Hockey Life @ Tipton \n
URL:https://ssac.hockey/event/u15-aa-ph-practice-2100-tia-15/
LOCATION:10828 80 Ave NW\, Edmonton\, AB\, T6E 5B5\, Canada
CATEGORIES:U15 AA,U15 AA Pro Hockey Life
END:VEVENT
END:VCALENDAR