BEGIN:VCALENDAR
VERSION:2.0
PRODID:-//SSAC Hockey - ECPv4.5.7//NONSGML v1.0//EN
CALSCALE:GREGORIAN
METHOD:PUBLISH
X-WR-CALNAME:SSAC Hockey
X-ORIGINAL-URL:https://ssac.hockey
X-WR-CALDESC:Events for SSAC Hockey
BEGIN:VEVENT
DTSTART;TZID=America/Edmonton:20211121T193000
DTEND;TZID=America/Edmonton:20211121T203000
DTSTAMP:20260423T081612
CREATED:20211118T063219Z
LAST-MODIFIED:20211118T063219Z
UID:<span 
                data-original-string="VUNLaORXs/7UZiucoLRQHg==052E2OxakLQSD1l2YRAipLu4DG3it/bckM5bYQ7CP0T5rycv8TGMgQBUcY8GzEk6Q0z"
                class="apbct-email-encoder"
                title="This contact has been encoded by Anti-Spam by CleanTalk. Click to decode. To finish the decoding make sure that JavaScript is enabled in your browser.">23<span class="apbct-blur">*************************@ss**.hock</span>ey</span>
SUMMARY:U15 AA PH Practice 19:30 KEA
DESCRIPTION:U15 AA Pro Hockey Life @ Kenilworth \n
URL:https://ssac.hockey/event/u15-aa-ph-practice-1930-kea/
LOCATION:8313 68A St NW\, Edmonton\, AB\, T6B 0J9\, Canada
CATEGORIES:U15 AA,U15 AA Pro Hockey Life
END:VEVENT
END:VCALENDAR