BEGIN:VCALENDAR
VERSION:2.0
PRODID:-//SSAC Hockey - ECPv4.5.7//NONSGML v1.0//EN
CALSCALE:GREGORIAN
METHOD:PUBLISH
X-WR-CALNAME:SSAC Hockey
X-ORIGINAL-URL:https://ssac.hockey
X-WR-CALDESC:Events for SSAC Hockey
BEGIN:VEVENT
DTSTART;TZID=America/Edmonton:20220107T171500
DTEND;TZID=America/Edmonton:20220107T181500
DTSTAMP:20260424T180037
CREATED:20220101T104554Z
LAST-MODIFIED:20220101T104554Z
UID:<span 
                data-original-string="GSIm2W5LZ724NhGfeGFyQw==052iiC+8oA/hlmIXRsG95EtfokIhWMfyPVu8tXsDaF1+NQj9CMeBBBNYJBKNGCczGoP"
                class="apbct-email-encoder"
                title="This contact has been encoded by Anti-Spam by CleanTalk. Click to decode. To finish the decoding make sure that JavaScript is enabled in your browser.">25<span class="apbct-blur">*************************@ss**.hock</span>ey</span>
SUMMARY:U15 AA PH Practice 17:15 KEA
DESCRIPTION:U15 AA Pro Hockey Life @ Kenilworth \n
URL:https://ssac.hockey/event/u15-aa-ph-practice-1715-kea-3/
LOCATION:8313 68A St NW\, Edmonton\, AB\, T6B 0J9\, Canada
CATEGORIES:U15 AA,U15 AA Pro Hockey Life
END:VEVENT
END:VCALENDAR