BEGIN:VCALENDAR
VERSION:2.0
PRODID:-//SSAC Hockey - ECPv4.5.7//NONSGML v1.0//EN
CALSCALE:GREGORIAN
METHOD:PUBLISH
X-WR-CALNAME:SSAC Hockey
X-ORIGINAL-URL:https://ssac.hockey
X-WR-CALDESC:Events for SSAC Hockey
BEGIN:VEVENT
DTSTART;TZID=America/Edmonton:20220113T200000
DTEND;TZID=America/Edmonton:20220113T221500
DTSTAMP:20260423T131005
CREATED:20220101T104708Z
LAST-MODIFIED:20220101T104708Z
UID:<span 
                data-original-string="KMDcNkJcB7WAsYrVk/IfPg==052QYRi/F4E7kCNCF8ZTRaeOeLkWVLvO2xm3d+9qWi5cFlbiOzq1+zrtxF+QXhtEid0"
                class="apbct-email-encoder"
                title="This contact has been encoded by Anti-Spam by CleanTalk. Click to decode. To finish the decoding make sure that JavaScript is enabled in your browser.">25<span class="apbct-blur">*************************@ss**.hock</span>ey</span>
SUMMARY:U15 AA PH Game 20:00 TCA
DESCRIPTION:U15 AA Pro Hockey Life vs Beaumont Braves @ Terwillegar A \n
URL:https://ssac.hockey/event/u15-aa-ph-game-2000-tca-3/
LOCATION:2051 Leger Rd NW\, Edmonton\, AB\, T6R 0R8\, Canada
CATEGORIES:U15 AA,U15 AA Pro Hockey Life
END:VEVENT
END:VCALENDAR