BEGIN:VCALENDAR
VERSION:2.0
PRODID:-//SSAC Hockey - ECPv4.5.7//NONSGML v1.0//EN
CALSCALE:GREGORIAN
METHOD:PUBLISH
X-WR-CALNAME:SSAC Hockey
X-ORIGINAL-URL:https://ssac.hockey
X-WR-CALDESC:Events for SSAC Hockey
BEGIN:VEVENT
DTSTART;TZID=America/Edmonton:20220214T191500
DTEND;TZID=America/Edmonton:20220214T213000
DTSTAMP:20260425T205442
CREATED:20220204T211336Z
LAST-MODIFIED:20220204T211336Z
UID:<span 
                data-original-string="x7GmuxINClr4ctSw0Z41Xw==052pBPGpfhFaolb/oKlOxjcYbRsPWbPov20W4PivGi0VkCsuYjhLLPetRiT2RZqphp9"
                class="apbct-email-encoder"
                title="This contact has been encoded by Anti-Spam by CleanTalk. Click to decode. To finish the decoding make sure that JavaScript is enabled in your browser.">26<span class="apbct-blur">*************************@ss**.hock</span>ey</span>
SUMMARY:U15 AA PH Game 19:15 RRR
DESCRIPTION:U15 AA Pro Hockey Life at Sherwood Park Sabres @ Randy Rosen | Sherwood Park \n
URL:https://ssac.hockey/event/u15-aa-ph-game-1915-rrr/
LOCATION:2015 Oak St\, AB\, Sherwood Park\, T8A 0W9\, Canada
CATEGORIES:U15 AA,U15 AA Pro Hockey Life
END:VEVENT
END:VCALENDAR