BEGIN:VCALENDAR
VERSION:2.0
PRODID:-//SSAC Hockey - ECPv4.5.7//NONSGML v1.0//EN
CALSCALE:GREGORIAN
METHOD:PUBLISH
X-WR-CALNAME:SSAC Hockey
X-ORIGINAL-URL:https://ssac.hockey
X-WR-CALDESC:Events for SSAC Hockey
BEGIN:VEVENT
DTSTART;TZID=America/Edmonton:20211122T184500
DTEND;TZID=America/Edmonton:20211122T210000
DTSTAMP:20260423T064344
CREATED:20211026T024855Z
LAST-MODIFIED:20211026T024855Z
UID:<span 
                data-original-string="tp/Xm449cFfb7RL//8UP8w==052YStLlyx8rsnzTdOwpiVeEdpoFRZAaw0POjSHFGdSa8wMH13U9a6EDsMkTw9zBrGn"
                class="apbct-email-encoder"
                title="This contact has been encoded by Anti-Spam by CleanTalk. Click to decode. To finish the decoding make sure that JavaScript is enabled in your browser.">22<span class="apbct-blur">*************************@ss**.hock</span>ey</span>
SUMMARY:U15 AA PH Game 18:45 JIA
DESCRIPTION:U15 AA Pro Hockey Life at St Albert Bears @ Jarome Iginla | Akinsdale \n
URL:https://ssac.hockey/event/u15-aa-ph-game-1845-jia/
CATEGORIES:U15 AA,U15 AA Pro Hockey Life
END:VEVENT
END:VCALENDAR