BEGIN:VCALENDAR
VERSION:2.0
PRODID:-//SSAC Hockey - ECPv4.5.7//NONSGML v1.0//EN
CALSCALE:GREGORIAN
METHOD:PUBLISH
X-WR-CALNAME:SSAC Hockey
X-ORIGINAL-URL:https://ssac.hockey
X-WR-CALDESC:Events for SSAC Hockey
BEGIN:VEVENT
DTSTART;TZID=America/Edmonton:20211207T211500
DTEND;TZID=America/Edmonton:20211207T221500
DTSTAMP:20260422T093229
CREATED:20211129T204559Z
LAST-MODIFIED:20211129T204559Z
UID:<span 
                data-original-string="JPHFm2+Pw5Tlxjn4ZPmfaQ==052rFek4gfV+FP1HTPI7XcFzp1ehbpgHW5laUDAmx+GIKo2cpDUp7cmdhYoHImr69av"
                class="apbct-email-encoder"
                title="This contact has been encoded by Anti-Spam by CleanTalk. Click to decode. To finish the decoding make sure that JavaScript is enabled in your browser.">24<span class="apbct-blur">*************************@ss**.hock</span>ey</span>
SUMMARY:U15 AA IP Practice 21:15 LOA
DESCRIPTION:U15 AA Innovation Physio @ Londonderry \n
URL:https://ssac.hockey/event/u15-aa-ip-practice-2115-loa/
LOCATION:14520 66 St. NW\, Edmonton\, AB\, T5C 3C8\, Canada
CATEGORIES:U15 AA,U15 AA Innovation Physio
END:VEVENT
END:VCALENDAR