BEGIN:VCALENDAR
VERSION:2.0
PRODID:-//SSAC Hockey - ECPv4.5.7//NONSGML v1.0//EN
CALSCALE:GREGORIAN
METHOD:PUBLISH
X-WR-CALNAME:SSAC Hockey
X-ORIGINAL-URL:https://ssac.hockey
X-WR-CALDESC:Events for SSAC Hockey
BEGIN:VEVENT
DTSTART;TZID=America/Edmonton:20250307T201500
DTEND;TZID=America/Edmonton:20250307T211500
DTSTAMP:20260423T234748
CREATED:20250306T212221Z
LAST-MODIFIED:20250306T212358Z
UID:<span 
                data-original-string="MAo6v4LXy1g6mHnT3ySMBw==052AIywSPnLRFQ+ltJcv1lo5uw1OioDkkW0YZKJNoprpWDxwanLs6Y+kIdVWp6JDAs0"
                class="apbct-email-encoder"
                title="This contact has been encoded by Anti-Spam by CleanTalk. Click to decode. To finish the decoding make sure that JavaScript is enabled in your browser.">39<span class="apbct-blur">*************************@ss**.hock</span>ey</span>
SUMMARY:U15 AA IP Practice 20:15 TCD
DESCRIPTION:U15 AA Innovation Physio @ Terwillegar D \n
URL:https://ssac.hockey/event/u15-aa-ip-practice-2015-tcd-11/
LOCATION:2051 Leger Rd NW\, Edmonton\, AB\, T6R 0R8\, Canada
CATEGORIES:U15 AA,U15 AA Innovation Physio
END:VEVENT
END:VCALENDAR