BEGIN:VCALENDAR
VERSION:2.0
PRODID:-//SSAC Hockey - ECPv4.5.7//NONSGML v1.0//EN
CALSCALE:GREGORIAN
METHOD:PUBLISH
X-WR-CALNAME:SSAC Hockey
X-ORIGINAL-URL:https://ssac.hockey
X-WR-CALDESC:Events for SSAC Hockey
BEGIN:VEVENT
DTSTART;TZID=America/Edmonton:20220201T194500
DTEND;TZID=America/Edmonton:20220201T204500
DTSTAMP:20260425T002729
CREATED:20220204T210642Z
LAST-MODIFIED:20220204T210642Z
UID:<span 
                data-original-string="r6+AXs2GwsH7fn4/idQQ8g==052RS+3ti7xvvuC4+TsnoAVcQ+kUhE21H073R+QJ2fc50TZS4iDM8jEN5lsQozotnYg"
                class="apbct-email-encoder"
                title="This contact has been encoded by Anti-Spam by CleanTalk. Click to decode. To finish the decoding make sure that JavaScript is enabled in your browser.">26<span class="apbct-blur">*************************@ss**.hock</span>ey</span>
SUMMARY:U15 AA IP Practice 19:45 TIA
DESCRIPTION:U15 AA Innovation Physio @ Tipton \n
URL:https://ssac.hockey/event/u15-aa-ip-practice-1945-tia-6/
LOCATION:10828 80 Ave NW\, Edmonton\, AB\, T6E 5B5\, Canada
CATEGORIES:U15 AA,U15 AA Innovation Physio
END:VEVENT
END:VCALENDAR