BEGIN:VCALENDAR
VERSION:2.0
PRODID:-//SSAC Hockey - ECPv4.5.7//NONSGML v1.0//EN
CALSCALE:GREGORIAN
METHOD:PUBLISH
X-WR-CALNAME:SSAC Hockey
X-ORIGINAL-URL:https://ssac.hockey
X-WR-CALDESC:Events for SSAC Hockey
BEGIN:VEVENT
DTSTART;TZID=America/Edmonton:20211208T201500
DTEND;TZID=America/Edmonton:20211208T223000
DTSTAMP:20260424T102435
CREATED:20211026T024619Z
LAST-MODIFIED:20211120T084208Z
UID:<span 
                data-original-string="wN7SEPI/qHBYx+ACPO0VXw==0527kl++qD/GyoxtKTt/H6TWHKdJJc8wGzWW+6co1YOVThZgIT+wp3opHUwC/vkUZVD"
                class="apbct-email-encoder"
                title="This contact has been encoded by Anti-Spam by CleanTalk. Click to decode. To finish the decoding make sure that JavaScript is enabled in your browser.">22<span class="apbct-blur">*************************@ss**.hock</span>ey</span>
SUMMARY:U15 AA IP Game 20:15 CDA
DESCRIPTION:U15 AA Innovation Physio vs St Albert Saints @ Castle Downs A \n
URL:https://ssac.hockey/event/u15-aa-ip-game-2015-cda-2/
LOCATION:11520 - 153 Avenue NW\, Edmonton\, AB\, T5X 6A3\, Canada
CATEGORIES:U15 AA,U15 AA Innovation Physio
END:VEVENT
END:VCALENDAR