BEGIN:VCALENDAR
VERSION:2.0
PRODID:-//SSAC Hockey - ECPv4.5.7//NONSGML v1.0//EN
CALSCALE:GREGORIAN
METHOD:PUBLISH
X-WR-CALNAME:SSAC Hockey
X-ORIGINAL-URL:https://ssac.hockey
X-WR-CALDESC:Events for SSAC Hockey
BEGIN:VEVENT
DTSTART;TZID=America/Edmonton:20220128T201500
DTEND;TZID=America/Edmonton:20220128T223000
DTSTAMP:20260424T191430
CREATED:20220101T105157Z
LAST-MODIFIED:20220101T105157Z
UID:<span 
                data-original-string="x72Zmm80IfhAiJ26daq6Ww==052i7Y+QPPB/pUnL522EzP81xPUXXhCMxdL+iR9VMGqdtB5sXw9yd1Av7tioIjz5lbb"
                class="apbct-email-encoder"
                title="This contact has been encoded by Anti-Spam by CleanTalk. Click to decode. To finish the decoding make sure that JavaScript is enabled in your browser.">25<span class="apbct-blur">*************************@ss**.hock</span>ey</span>
SUMMARY:U15 AA IP Game 20:15 BHA
DESCRIPTION:U15 AA Innovation Physio at KC Voyageurs @ Bill Hunter \n
URL:https://ssac.hockey/event/u15-aa-ip-game-2015-bha/
LOCATION:9200 - 163 Street NW\, Edmonton\, AB\, T5R 2P3\, Canada
CATEGORIES:U15 AA,U15 AA Innovation Physio
END:VEVENT
END:VCALENDAR