BEGIN:VCALENDAR
VERSION:2.0
PRODID:-//SSAC Hockey - ECPv4.5.7//NONSGML v1.0//EN
CALSCALE:GREGORIAN
METHOD:PUBLISH
X-WR-CALNAME:SSAC Hockey
X-ORIGINAL-URL:https://ssac.hockey
X-WR-CALDESC:Events for SSAC Hockey
BEGIN:VEVENT
DTSTART;TZID=America/Edmonton:20220105T200000
DTEND;TZID=America/Edmonton:20220105T221500
DTSTAMP:20260424T144109
CREATED:20211120T084234Z
LAST-MODIFIED:20220101T105128Z
UID:<span 
                data-original-string="uZQloPC0FJDoeP+mSX+hOw==052jeFuFQ8xTPgluN+JeYfYXbFciLhqtNRTPiDUvHXDtqmhrWqqW9Tn7fe9P2Y+iI51"
                class="apbct-email-encoder"
                title="This contact has been encoded by Anti-Spam by CleanTalk. Click to decode. To finish the decoding make sure that JavaScript is enabled in your browser.">23<span class="apbct-blur">*************************@ss**.hock</span>ey</span>
SUMMARY:U15 AA IP Game 20:00 MWA
DESCRIPTION:U15 AA Innovation Physio vs MLAC Traxx @ Kyle Fundytus Mill Woods A \n
URL:https://ssac.hockey/event/u15-aa-ip-game-2000-mwa-2/
LOCATION:7207 28 Ave NW\, Edmonton\, AB\, T6K 3Z3\, Canada
CATEGORIES:U15 AA,U15 AA Innovation Physio
END:VEVENT
END:VCALENDAR