BEGIN:VCALENDAR
VERSION:2.0
PRODID:-//SSAC Hockey - ECPv4.5.7//NONSGML v1.0//EN
CALSCALE:GREGORIAN
METHOD:PUBLISH
X-WR-CALNAME:SSAC Hockey
X-ORIGINAL-URL:https://ssac.hockey
X-WR-CALDESC:Events for SSAC Hockey
BEGIN:VEVENT
DTSTART;TZID=America/Edmonton:20220107T200000
DTEND;TZID=America/Edmonton:20220107T221500
DTSTAMP:20260424T180030
CREATED:20211120T084234Z
LAST-MODIFIED:20220101T105157Z
UID:<span 
                data-original-string="rShYK1I0r/L6KG5niWYpgw==052/cwPfXD2lvJCFrZCGI8T6hQ01rjAazpI6m3b7ChnjTDQVBp//Hgkulrr8xZeNQ30"
                class="apbct-email-encoder"
                title="This contact has been encoded by Anti-Spam by CleanTalk. Click to decode. To finish the decoding make sure that JavaScript is enabled in your browser.">23<span class="apbct-blur">*************************@ss**.hock</span>ey</span>
SUMMARY:U15 AA IP Game 20:00 CDB
DESCRIPTION:U15 AA Innovation Physio at KC Shamrocks @ Castle Downs B \n
URL:https://ssac.hockey/event/u15-aa-ip-game-2000-cdb/
LOCATION:11520 - 153 Avenue NW\, Edmonton\, AB\, T5X 6A3\, Canada
CATEGORIES:U15 AA,U15 AA Innovation Physio
END:VEVENT
END:VCALENDAR