BEGIN:VCALENDAR
VERSION:2.0
PRODID:-//SSAC Hockey - ECPv4.5.7//NONSGML v1.0//EN
CALSCALE:GREGORIAN
METHOD:PUBLISH
X-WR-CALNAME:SSAC Hockey
X-ORIGINAL-URL:https://ssac.hockey
X-WR-CALDESC:Events for SSAC Hockey
BEGIN:VEVENT
DTSTART;TZID=America/Edmonton:20211205T173000
DTEND;TZID=America/Edmonton:20211205T194500
DTSTAMP:20260422T055607
CREATED:20211120T084207Z
LAST-MODIFIED:20211120T084207Z
UID:<span 
                data-original-string="2gz0c4emEYq3djwGwd3byQ==052fxAnoQtaFyMFNcZR/yQSnrDZGdD4jXQyepFzYVWvl5IWxz65l1CtkVHMJOKkvsw3"
                class="apbct-email-encoder"
                title="This contact has been encoded by Anti-Spam by CleanTalk. Click to decode. To finish the decoding make sure that JavaScript is enabled in your browser.">23<span class="apbct-blur">*************************@ss**.hock</span>ey</span>
SUMMARY:U15 AA IP Game 17:30 MWA
DESCRIPTION:U15 AA Innovation Physio vs Lakeland Panthers @ Kyle Fundytus Mill Woods A \n
URL:https://ssac.hockey/event/u15-aa-ip-game-1730-mwa/
LOCATION:7207 28 Ave NW\, Edmonton\, AB\, T6K 3Z3\, Canada
CATEGORIES:U15 AA,U15 AA Innovation Physio
END:VEVENT
END:VCALENDAR