BEGIN:VCALENDAR
VERSION:2.0
PRODID:-//SSAC Hockey - ECPv4.5.7//NONSGML v1.0//EN
CALSCALE:GREGORIAN
METHOD:PUBLISH
X-WR-CALNAME:SSAC Hockey
X-ORIGINAL-URL:https://ssac.hockey
X-WR-CALDESC:Events for SSAC Hockey
BEGIN:VEVENT
DTSTART;TZID=America/Edmonton:20211204T171500
DTEND;TZID=America/Edmonton:20211204T193000
DTSTAMP:20260422T075052
CREATED:20211026T024553Z
LAST-MODIFIED:20211120T084207Z
UID:<span 
                data-original-string="WULjiE09kLyjt+8XC3Oo8A==052G/snZaOQ83eN5Iq52orcP6kDZy71kpat4nZaMRfWYredbrzDS8Q4f7lynTORj2R8"
                class="apbct-email-encoder"
                title="This contact has been encoded by Anti-Spam by CleanTalk. Click to decode. To finish the decoding make sure that JavaScript is enabled in your browser.">22<span class="apbct-blur">*************************@ss**.hock</span>ey</span>
SUMMARY:U15 AA IP Game 17:15 JRC
DESCRIPTION:U15 AA Innovation Physio at Fort Saskatchewan Rangers @ Jubilee \n
URL:https://ssac.hockey/event/u15-aa-ip-game-1715-jrc/
LOCATION:10013 96A Ave.\, Fort Saskatchewan\, AB\, T8L 1P9\, Canada
CATEGORIES:U15 AA,U15 AA Innovation Physio
END:VEVENT
END:VCALENDAR