BEGIN:VCALENDAR
VERSION:2.0
PRODID:-//SSAC Hockey - ECPv4.5.7//NONSGML v1.0//EN
CALSCALE:GREGORIAN
METHOD:PUBLISH
X-WR-CALNAME:SSAC Hockey
X-ORIGINAL-URL:https://ssac.hockey
X-WR-CALDESC:Events for SSAC Hockey
BEGIN:VEVENT
DTSTART;TZID=America/Edmonton:20211207T210000
DTEND;TZID=America/Edmonton:20211207T220000
DTSTAMP:20260422T094107
CREATED:20211026T024038Z
LAST-MODIFIED:20211120T083657Z
UID:<span 
                data-original-string="ikcp/tSw3E1ACx0vxDxSNQ==052y2fmMmuE1NeKK3rg6fHCpbPW15RYzgBTPKb+uR68lRuyL0p3wAClT50UdzrBxW1R"
                class="apbct-email-encoder"
                title="This contact has been encoded by Anti-Spam by CleanTalk. Click to decode. To finish the decoding make sure that JavaScript is enabled in your browser.">22<span class="apbct-blur">*************************@ss**.hock</span>ey</span>
SUMMARY:U15 AA BC Skills 21:00 TIA
DESCRIPTION:U15 AA Barbecue Country | Better Player @ Tipton \n
URL:https://ssac.hockey/event/u15-aa-bc-skills-2100-tia-7/
LOCATION:10828 80 Ave NW\, Edmonton\, AB\, T6E 5B5\, Canada
CATEGORIES:U15 AA,U15 AA Barbecue Country
END:VEVENT
END:VCALENDAR