BEGIN:VCALENDAR
VERSION:2.0
PRODID:-//SSAC Hockey - ECPv4.5.7//NONSGML v1.0//EN
CALSCALE:GREGORIAN
METHOD:PUBLISH
X-WR-CALNAME:SSAC Hockey
X-ORIGINAL-URL:https://ssac.hockey
X-WR-CALDESC:Events for SSAC Hockey
BEGIN:VEVENT
DTSTART;TZID=America/Edmonton:20211130T194500
DTEND;TZID=America/Edmonton:20211130T204500
DTSTAMP:20260422T151923
CREATED:20211026T024038Z
LAST-MODIFIED:20211026T024038Z
UID:<span 
                data-original-string="UQQPcatVV7GRlSNGFWS5Zg==052sstwVARRAk9Uh6qLwAXsA7c9iLU3FxWM3+m4NI9wpwhIxoH4T2holklnLsQKuJ6m"
                class="apbct-email-encoder"
                title="This contact has been encoded by Anti-Spam by CleanTalk. Click to decode. To finish the decoding make sure that JavaScript is enabled in your browser.">22<span class="apbct-blur">*************************@ss**.hock</span>ey</span>
SUMMARY:U15 AA BC Skills 19:45 TIA
DESCRIPTION:U15 AA Barbecue Country | Better Player @ Tipton \n
URL:https://ssac.hockey/event/u15-aa-bc-skills-1945-tia-11/
LOCATION:10828 80 Ave NW\, Edmonton\, AB\, T6E 5B5\, Canada
CATEGORIES:U15 AA,U15 AA Barbecue Country
END:VEVENT
END:VCALENDAR