BEGIN:VCALENDAR
VERSION:2.0
PRODID:-//SSAC Hockey - ECPv4.5.7//NONSGML v1.0//EN
CALSCALE:GREGORIAN
METHOD:PUBLISH
X-WR-CALNAME:SSAC Hockey
X-ORIGINAL-URL:https://ssac.hockey
X-WR-CALDESC:Events for SSAC Hockey
BEGIN:VEVENT
DTSTART;TZID=America/Edmonton:20211222T210000
DTEND;TZID=America/Edmonton:20211222T220000
DTSTAMP:20260423T140606
CREATED:20211120T083732Z
LAST-MODIFIED:20211120T083732Z
UID:<span 
                data-original-string="1nB0Mydgyq2u39e6MPs1bw==0527vIyeJIH8ZpXYdOb09zDnoEm94QPhZXFEduKZJ4TLAr3t9OTdptwAH644XXWytyk"
                class="apbct-email-encoder"
                title="This contact has been encoded by Anti-Spam by CleanTalk. Click to decode. To finish the decoding make sure that JavaScript is enabled in your browser.">23<span class="apbct-blur">*************************@ss**.hock</span>ey</span>
SUMMARY:U15 AA BC Practice 21:00 TIA
DESCRIPTION:U15 AA Barbecue Country @ Tipton \n
URL:https://ssac.hockey/event/u15-aa-bc-practice-2100-tia-7/
LOCATION:10828 80 Ave NW\, Edmonton\, AB\, T6E 5B5\, Canada
CATEGORIES:U15 AA,U15 AA Barbecue Country
END:VEVENT
END:VCALENDAR